BEGIN:VCALENDAR
VERSION:2.0
PRODID:-//hacksw/handcal//NONSGML v1.0//EN
BEGIN:VEVENT
DTSTAMP:20260906T160000Z
DTSTART:20260906T160000Z
DTEND:20260906T180000Z

SUMMARY:2026 Sprouts Farmers Market Broadway Block Party
DESCRIPTION:
END:VEVENT
END:VCALENDAR