BEGIN:VCALENDAR
VERSION:2.0
PRODID:-//hacksw/handcal//NONSGML v1.0//EN
BEGIN:VEVENT
DTSTAMP:20260802T000000Z
DTSTART:20260802T000000Z
DTEND:20260802T020000Z

SUMMARY:Barry Manilow: The Last Nashville Concert
DESCRIPTION:The Barry Manilow concert originally scheduled for March 7, 2026  at Bridgestone Arena has been rescheduled to Saturday, August 1.   All previously purchased tickets will be honored at the new date.About Barry ManilowWith a career spanning more than five decades, Barry Manilow has become one of the most celebrated entertainers in history. Named the #1 Adult Contemporary Artist of all time by Billboard and R&R magazines, he has sold more than 85 million albums worldwide, released over 40 albums, and earned 51 Top 40 singles, including 13 #1s and 28 Top 10 hits. A Songwriters Hall of Fame inductee, Manilow has earned GRAMMY®, TONY®, and EMMY® Awards and has been honored with the BMI Icon Award.His long-running Las Vegas residency has been hailed among the city’s best, and his record-breaking appearances at Radio City Music Hall cement his place as one of the venue’s all-time greats. In addition to his recording and touring success, Manilow’s original Broadway musical Harmony was named a 2023 New York Times Critic’s Pick, further underscoring his enduring creativity. Beyond the stage, he founded the Manilow Music Project, which has donated millions of dollars in instruments and resources to schools across the country, ensuring future generations have access to music education. In April 2026, Manilow will be presented with the American Advertising Federation (AAF)&#39;s 2026 prestigious President’s Award at the AAF&#39;s Advertising Hall of Fame induction ceremony for his incredible work in advertising.Manilow has produced, composed, and performed some of the most iconic commercial jingles of all time for companies and brands such as State Farm, Band-Aid, KFC, Pepsi, McDonald’s and more. 
END:VEVENT
END:VCALENDAR