BEGIN:VCALENDAR
VERSION:2.0
PRODID:-//hacksw/handcal//NONSGML v1.0//EN
BEGIN:VEVENT
DTSTAMP:20261205T023000Z
DTSTART:20261205T023000Z
DTEND:20261205T043000Z

SUMMARY:Los Tigres Del Norte: Los Tigres Del Mundo
DESCRIPTION:Following the resounding success of their previous tour, La Lotería, the legendarygroup embarks on a powerful new chapter with a show destined to make history.With more than five decades of an extraordinary career, multiple international awards, and a legacy that has shaped generations, Los Tigres del Norte return with a tour that celebrates their global impact and deep connection with audiences both inside and outside the United States.The new tour, "LOS TIGRES DEL MUNDO: El Norte Más allá de la Frontera," is a bold artistic and cultural statement: norteño music as a bridge between countries, stories, and communities. The show will feature their greatest hits, iconic corridos, and the songs that have given voice to millions.Produced by Zamora Live, the tour will showcase top-tier production, cutting-edge technology, and striking audiovisual elements that enhance the show and capture the true spirit of El Norte, bringing its essence to audiences around the globe.
END:VEVENT
END:VCALENDAR